BEGIN:VCALENDAR
VERSION:2.0
PRODID:-//La Causa Hyams - ECPv5.2.1.1//NONSGML v1.0//EN
CALSCALE:GREGORIAN
METHOD:PUBLISH
X-WR-CALNAME:The Hyams Cause
X-ORIGINAL-URL:https://hyamscause.org.za
X-WR-CALDESC:Eventi per La Causa Hyams
BEGIN:VTIMEZONE
TZID:Europe/Helsinki
BEGIN:DAYLIGHT
TZOFFSETFROM:+0200
TZOFFSETTO:+0300
TZNAME:EEST
DTSTART:20220327T010000
END:DAYLIGHT
BEGIN:STANDARD
TZOFFSETFROM:+0300
TZOFFSETTO:+0200
TZNAME:EET
DTSTART:20221030T010000
END:STANDARD
END:VTIMEZONE
BEGIN:VEVENT
DTSTART;TZID=Europe/Helsinki:20220430T093000
DTEND;TZID=Europe/Helsinki:20220430T113000
DTSTAMP:20260420T013732
CREATED:20220412T074324Z
LAST-MODIFIED:20220412T081109Z
UID:4054-1651311000-1651318200@hyamscause.org.za
SUMMARY:Santa Messa in occasione dell'avvio dell'Inchiesta: The Potential Cause of Beatification and Canonisation of Maria “Domitilla” Hyams and Daniel “Danny” George Hyams
DESCRIPTION:  \n 
URL:https://hyamscause.org.za/event/holy-mass-to-mark-the-launch-of-the-inquiry/
LOCATION:Cathedral of Christ the King\, Johannesburg\, 186 Nugget Street\, Johannesburg\, Gauteng\, 2198\, South Africa
END:VEVENT
END:VCALENDAR