BEGIN:VCALENDAR
VERSION:2.0
PRODID:-//The Hyams Cause - ECPv5.2.1.1//NONSGML v1.0//EN
CALSCALE:GREGORIAN
METHOD:PUBLISH
X-WR-CALNAME:The Hyams Cause
X-ORIGINAL-URL:https://hyamscause.org.za
X-WR-CALDESC:Events for The Hyams Cause
BEGIN:VTIMEZONE
TZID:Europe/Helsinki
BEGIN:DAYLIGHT
TZOFFSETFROM:+0200
TZOFFSETTO:+0300
TZNAME:EEST
DTSTART:20200329T010000
END:DAYLIGHT
BEGIN:STANDARD
TZOFFSETFROM:+0300
TZOFFSETTO:+0200
TZNAME:EET
DTSTART:20201025T010000
END:STANDARD
END:VTIMEZONE
BEGIN:VEVENT
DTSTART;VALUE=DATE:20200303
DTEND;VALUE=DATE:20200304
DTSTAMP:20260420T051125
CREATED:20200217T204959Z
LAST-MODIFIED:20200217T204959Z
UID:3640-1583193600-1583279999@hyamscause.org.za
SUMMARY:Rosary with FIDESCO
DESCRIPTION:Rosary with FIDESCO & some residents during weekdays at 12:30 \nPlease contact LITTLE EDEN for the specific times.
URL:https://hyamscause.org.za/event/rosary-with-fidesco-12/
LOCATION:LITTLE EDEN Domitilla and Danny Hyams Home\, Edenvale\, 79 Wagenaar Rd (cnr Harris Ave)\, Edenvale\, Gauteng\, 1609\, South Africa
CATEGORIES:Rosary
ATTACH;FMTTYPE=image/jpeg:https://hyamscause.org.za/wp-content/uploads/2020/02/Hyams-Cause-Rosary-Event.jpg
ORGANIZER;CN="LITTLE%20EDEN":MAILTO:info@littleeden.org.za
END:VEVENT
END:VCALENDAR