BEGIN:VCALENDAR
VERSION:2.0
PRODID:-//The Hyams Cause - ECPv5.2.1.1//NONSGML v1.0//EN
CALSCALE:GREGORIAN
METHOD:PUBLISH
X-WR-CALNAME:The Hyams Cause
X-ORIGINAL-URL:https://hyamscause.org.za
X-WR-CALDESC:Events for The Hyams Cause
BEGIN:VTIMEZONE
TZID:Europe/Helsinki
BEGIN:DAYLIGHT
TZOFFSETFROM:+0200
TZOFFSETTO:+0300
TZNAME:EEST
DTSTART:20200329T010000
END:DAYLIGHT
BEGIN:STANDARD
TZOFFSETFROM:+0300
TZOFFSETTO:+0200
TZNAME:EET
DTSTART:20201025T010000
END:STANDARD
END:VTIMEZONE
BEGIN:VEVENT
DTSTART;VALUE=DATE:20200222
DTEND;VALUE=DATE:20200223
DTSTAMP:20260420T082841
CREATED:20200212T083447Z
LAST-MODIFIED:20200212T083506Z
UID:3500-1582329600-1582415999@hyamscause.org.za
SUMMARY:Holy adoration
DESCRIPTION:Holy adoration at the convent on every Saturday of the month. \nPlease contact LITTLE EDEN for the specific times.
URL:https://hyamscause.org.za/event/3500/
LOCATION:Caroline Tindal House\, South Africa
CATEGORIES:Holy adoration
ATTACH;FMTTYPE=image/jpeg:https://hyamscause.org.za/wp-content/uploads/2020/02/Holy-adoration.jpg
ORGANIZER;CN="LITTLE%20EDEN":MAILTO:info@littleeden.org.za
END:VEVENT
END:VCALENDAR